BEGIN:VCALENDAR
VERSION:2.0
PRODID:-//wp-events-plugin.com//7.2.3.1//EN
TZID:Europe/Zurich
X-WR-TIMEZONE:Europe/Zurich
BEGIN:VEVENT
UID:3@fc-hochrhein.de
DTSTART;TZID=Europe/Zurich:20260307T063000
DTEND;TZID=Europe/Zurich:20260307T190000
DTSTAMP:20260218T143327Z
URL:https://fc-hochrhein.de/events/apres-ski-ausfahrt/
SUMMARY:Après-Ski Ausfahrt
DESCRIPTION:Auch in diesem Winter gibt es wieder eine Après-Ski Ausfahrt.\
 n\nDieses Mal gehts ins Brandnertal.\nHeuboda Brand auf Insta\n\nApres Ski
  Heuboda Brand\n\nAbfahrt in Hohentengen an der Mehrzweckhalle um 6:30 Uhr
 .\nRückfahrt so gegen 19:00 Uhr\n\n\nPreise (Busfahrt und Liftpass):\n\nE
 rwachsene: 85 €\n\nMitglieder zahlen 10 € weniger!\n\n\nWeitere Infos 
 bei\n[connections id=74 template="sidebarcard"]\n\nAnmeldung\n[contact-for
 m-7 id="f305a12" title="Apres-Skiausfahrt Anmeldung"]
ATTACH;FMTTYPE=image/jpeg:https://fc-hochrhein.de/wp-content/uploads/2025/
 01/Bildschirmfoto-2025-01-22-um-07.55.35.png
CATEGORIES:Skiclub
LOCATION:Brand - Talstation Palüdbahn\, Innertal 58\, Brand\, 6708\, Öste
 rreich
GEO:47.095189;9.734685
X-APPLE-STRUCTURED-LOCATION;VALUE=URI;X-ADDRESS=Innertal 58\, Brand\, 6708\
 , Österreich;X-APPLE-RADIUS=100;X-TITLE=Brand - Talstation Palüdbahn:geo
 :47.095189,9.734685
END:VEVENT
BEGIN:VTIMEZONE
TZID:Europe/Zurich
X-LIC-LOCATION:Europe/Zurich
BEGIN:STANDARD
DTSTART:20251026T020000
TZOFFSETFROM:+0200
TZOFFSETTO:+0100
TZNAME:CET
END:STANDARD
END:VTIMEZONE
END:VCALENDAR