BEGIN:VCALENDAR
VERSION:2.0
PRODID:-//wp-events-plugin.com//7.2.3.1//EN
TZID:Europe/Zurich
X-WR-TIMEZONE:Europe/Zurich
BEGIN:VEVENT
UID:837@fc-hochrhein.de
DTSTART;TZID=Europe/Zurich:20260724T190000
DTEND;TZID=Europe/Zurich:20260724T230000
DTSTAMP:20250909T095558Z
URL:https://fc-hochrhein.de/events/grillfest/
SUMMARY:Grillfest
DESCRIPTION:Essen bitte selbst mitbringen\, für Getränke ist gesorgt.\n\n
 Genauer Ort wird noch bekannt gegeben.
ATTACH;FMTTYPE=image/jpeg:https://fc-hochrhein.de/wp-content/uploads/2023/
 10/Bild-088-e1727877623788.jpg
CATEGORIES:Skiclub
END:VEVENT
BEGIN:VTIMEZONE
TZID:Europe/Zurich
X-LIC-LOCATION:Europe/Zurich
BEGIN:DAYLIGHT
DTSTART:20260329T030000
TZOFFSETFROM:+0100
TZOFFSETTO:+0200
TZNAME:CEST
END:DAYLIGHT
END:VTIMEZONE
END:VCALENDAR