BEGIN:VCALENDAR
VERSION:2.0
PRODID:-//wp-events-plugin.com//7.2.3.1//EN
TZID:Europe/Zurich
X-WR-TIMEZONE:Europe/Zurich
BEGIN:VEVENT
UID:828@fc-hochrhein.de
DTSTART;TZID=Europe/Zurich:20251006T193000
DTEND;TZID=Europe/Zurich:20251006T213000
DTSTAMP:20250909T082844Z
URL:https://fc-hochrhein.de/events/hauptversammlung-skiabteilung-2/
SUMMARY:Hauptversammlung Skiabteilung
DESCRIPTION:Alle Mitglieder sind hierzu herzlich eingeladen.
CATEGORIES:Skiclub
LOCATION:Vereinsheim Hohentengen\, Weiherstrasse 6\, Hohentengen\, 79801\, 
 Deutschland
GEO:47.57201999999999;8.436410000000024
X-APPLE-STRUCTURED-LOCATION;VALUE=URI;X-ADDRESS=Weiherstrasse 6\, Hohenteng
 en\, 79801\, Deutschland;X-APPLE-RADIUS=100;X-TITLE=Vereinsheim Hohentenge
 n:geo:47.57201999999999,8.436410000000024
END:VEVENT
BEGIN:VTIMEZONE
TZID:Europe/Zurich
X-LIC-LOCATION:Europe/Zurich
BEGIN:DAYLIGHT
DTSTART:20250330T030000
TZOFFSETFROM:+0100
TZOFFSETTO:+0200
TZNAME:CEST
END:DAYLIGHT
END:VTIMEZONE
END:VCALENDAR