BEGIN:VCALENDAR
VERSION:2.0
PRODID:-//wp-events-plugin.com//7.2.3.1//EN
TZID:Europe/Zurich
X-WR-TIMEZONE:Europe/Zurich
BEGIN:VEVENT
UID:832@fc-hochrhein.de
DTSTART;TZID=Europe/Zurich;VALUE=DATE:20260110
DTEND;TZID=Europe/Zurich;VALUE=DATE:20260112
DTSTAMP:20260104T151405Z
URL:https://fc-hochrhein.de/events/ski-und-snowboardkurse-2/
SUMMARY:Ski- und Snowboardkurse
DESCRIPTION:Skifahren und Snowboarden lernen – mit Spaß und Sicherheit z
 um Ziel!\n\nSamstag ausgebucht\, Sonntag noch wenige Plätze frei!\nFalls 
 Du noch mit möchtest\, kannst Du Dich gerne auf die Warteliste setzen las
 sen!\n\nDu möchtest endlich sicher auf Ski oder dem Snowboard unterwegs s
 ein? Oder nach einer Pause wieder loslegen und neue Techniken entdecken? \
 n\nUnsere Ski- und Snowboardkurse sind genau dafür gemacht! Von den erste
 n Schwüngen auf der Piste bis zur sicheren Abfahrt begleiten wir dich Sch
 ritt für Schritt – professionell\, individuell und mit viel Freude am L
 ernen.\nBei uns steht das Erlernen und Verbessern deiner Fahrtechnik im Mi
 ttelpunkt. Dabei sorgen wir mit erfahrenen Lehrern und kleinen\, gut abges
 timmten Gruppen für ein optimales Lernklima. \n\nOb du Anfänger oder Wie
 dereinsteiger bist – am Ende des Wochenendes spürst du deinen Fortschri
 tt und hast jede Menge Spaß dabei.\nMit unserem Rundum-sorglos-Angebot in
 klusive Busfahrt\, Liftpass und Mittagessen kannst du dich voll und ganz a
 uf deine ersten oder nächsten Schwünge konzentrieren.\nLass uns gemeinsa
 m die Freude am Wintersport entdecken – in wildem Wildhaus (CH)!\n\nKost
 en pro Tag ALL INCLUSIVE*:\n\n\n\n 	Bambinis (jünger 6): 70 €\n 	Kinder
  (jünger 16): 100 €\n 	Jugendliche (jünger 20): 110 €\n 	Erwachsene:
  120 €\n 	Nichtmitglieder: +15 €\n\n\nAb dem 2. Familienmitglied\, wel
 ches am Kurs teilnimmt 15 € Rabatt\, ab dem 3. Familienmitglied 20 € R
 abatt\n\n* incl. Busfahrt\, Mittagessen\, Liftpass und Kursgebühr\n\nFrei
 fahrer\, die als Begleitpersonen mitkommen und keinen Kurs buchen\, zahlen
  jeweils 30 EUR weniger. Das beinhaltet Bus\, Mittagessen und Liftpass.\n\
 nAbfahrt ist jeweils in Hohentengen an der Mehrzweckhalle\n\nSamstag 7:00 
 Uhr\n\nSonntag 7:00 Uhr\n\nKurszeiten an beiden Tagen\n10:00 bis 15:00 Uhr
 \n\nWerde Mitglied\, es lohnt sich!  --&gt\; Hier gehts zum Mitgliedsantra
 g\n\n\nWichtige Info für Anfänger:  \nWer zum allerersten Mal auf Skie
 rn steht -„Anfänger“ egal ob Kind (ab 5 Jahren) oder Erwachsener- kan
 n aus organisatorischen Gründen nur am Samstag starten. Ein Einstieg am S
 onntag ist für Anfänger leider nicht möglich\, da die Gruppen am Vortag
  bereits die wichtigsten Grundlagen gelernt haben und weiter aufbauen – 
 das sorgt dafür\, dass niemand den Anschluss verliert und alle gemeinsam 
 am meisten aus dem Kurs herausholen.\n\n\nDie bewährte Einteilung in vier
  Klassen (am 2. Tag können die Gruppen neu eingeteilt werden):\n1 - Erste
  Versuche\nFür alle\, die das Skifahren ganz neu anfangen. Hier lernst du
 \, wie man die Skier anschnallt\, sich auf flachem Gelände bewegt\, anfä
 hrt\, bremst und langsam die erste Kurve macht.\n2 - Sicherer werden\nFür
  alle\, die schon ein bisschen Skifahren können – zum Beispiel bremsen 
 oder langsam eine Kurve fahren. Ihr übt das sichere Fahren und Kurvenzieh
 en auf ganz einfachen\, flachen Pisten.\n3 - Mittleres Niveau\nFür alle\,
  die sich schon sicher auf „blauen“ Pisten bewegen\, Kurven etwas flü
 ssiger fahren und alleine einen Lift nutzen können.\n4 - Fortgeschritten\
 nFür alle\, die sicher und rhythmisch die Piste hinunterfahren\, auch wen
 n sie steiler ist (z.B. auf mittelschweren\, „roten“ Pisten)\, und Kur
 ven in paralleler Skistellung beherrschen.\n\n\nWeitere Infos bei\n[connec
 tions id=57 template="sidebarcard"]\n\n\n[contact-form-7 id="069149b" titl
 e="Skikurs Anmeldung"]\n
ATTACH;FMTTYPE=image/jpeg:https://fc-hochrhein.de/wp-content/uploads/2022/
 09/IMG_5607-scaled-e1727876898523.jpg
CATEGORIES:Skiclub
LOCATION:Wildhaus Talstation\, Vordere Schwendistrasse 23\, Wildhaus\, Schw
 eiz
GEO:47.198937;9.342216
X-APPLE-STRUCTURED-LOCATION;VALUE=URI;X-ADDRESS=Vordere Schwendistrasse 23\
 , Wildhaus\, Schweiz;X-APPLE-RADIUS=100;X-TITLE=Wildhaus Talstation:geo:47
 .198937,9.342216
END:VEVENT
BEGIN:VTIMEZONE
TZID:Europe/Zurich
X-LIC-LOCATION:Europe/Zurich
BEGIN:STANDARD
DTSTART:20251026T020000
TZOFFSETFROM:+0200
TZOFFSETTO:+0100
TZNAME:CET
END:STANDARD
END:VTIMEZONE
END:VCALENDAR