BEGIN:VCALENDAR
VERSION:2.0
PRODID:-//Your Organization//NONSGML v1.0//EN
BEGIN:VEVENT
UID:schmudo-2026-02-12@hohentengen
DTSTAMP:20260120T101134Z
DTSTART;VALUE=DATE:20260212
DTEND;VALUE=DATE:20260213
SUMMARY:Hemdglunkerball Schmudo
DESCRIPTION:Arbeitseinsatz
LOCATION:Vereinsheim Hohentengen
END:VEVENT
BEGIN:VEVENT
UID:kinderfastnacht-2026-02-14@hohentengen
DTSTAMP:20260120T101134Z
DTSTART:20260214T110000
DTEND:20260214T160000
SUMMARY:Kinderfastnacht
DESCRIPTION:Arbeitseinsatz
LOCATION:Halle Hohentengen
END:VEVENT
BEGIN:VEVENT
UID:dorfputze-2026-03-14@hohentengen
DTSTAMP:20260120T101134Z
DTSTART:20260314T090000
DTEND:20260314T140000
SUMMARY:Dorfputze inkl. Sportanlagenreinigung
DESCRIPTION:Arbeitseinsatz
END:VEVENT
BEGIN:VEVENT
UID:sportwochenende-2026-05-0203@hohentengen
DTSTAMP:20260120T101134Z
DTSTART;VALUE=DATE:20260502
DTEND;VALUE=DATE:20260504
SUMMARY:Sportwochenende
DESCRIPTION:Arbeitseinsatz
LOCATION:Sportplatz Hohentengen
END:VEVENT
BEGIN:VEVENT
UID:stettenturnier-2026-05-2224@stetten
DTSTAMP:20260120T101134Z
DTSTART;VALUE=DATE:20260522
DTEND;VALUE=DATE:20260525
SUMMARY:Stettenturnier
DESCRIPTION:Veranstaltung
END:VEVENT
BEGIN:VEVENT
UID:saisonabschlussfeier-2026-06-13@stetten
DTSTAMP:20260120T101134Z
DTSTART;VALUE=DATE:20260613
DTEND;VALUE=DATE:20260614
SUMMARY:Saisonabschlussfeier
DESCRIPTION:Veranstaltung
END:VEVENT
BEGIN:VEVENT
UID:küssabergpokalturnier-2026-08-1113@hohentengen
DTSTAMP:20260120T101134Z
DTSTART;VALUE=DATE:20260811
DTEND;VALUE=DATE:20260814
SUMMARY:Küssabergpokalturnier - Gruppenspiele
DESCRIPTION:Arbeitseinsatz
LOCATION:Sportplatz Hohentengen
END:VEVENT
BEGIN:VEVENT
UID:küssabergpokalturnier-2026-08-15@hohentengen
DTSTAMP:20260120T101134Z
DTSTART;VALUE=DATE:20260815
DTEND;VALUE=DATE:20260816
SUMMARY:Küssabergpokalturnier - Finale
DESCRIPTION:Arbeitseinsatz
LOCATION:Sportplatz Hohentengen
END:VEVENT
BEGIN:VEVENT
UID:schlotterbeck-2026-08-24@hohentengen
DTSTAMP:20260120T101134Z
DTSTART;VALUE=DATE:20260824
DTEND;VALUE=DATE:20260829
SUMMARY:Fußballschule Schlotterbeck
DESCRIPTION:Veranstaltung
LOCATION: Sportplatz Hohentengen
END:VEVENT
BEGIN:VEVENT
UID:weinfest-2026-09-1113@hohentengen
DTSTAMP:20260120T101134Z
DTSTART;VALUE=DATE:20260911
DTEND;VALUE=DATE:20260914
SUMMARY:Weinfest Hohentengen
DESCRIPTION:Arbeitseinsatz
LOCATION:Hohentengen
END:VEVENT
BEGIN:VEVENT
UID:generalversammlung-2026-10-09@hohentengen
DTSTAMP:20260120T101134Z
DTSTART:20261009T190000
DTEND:20261009T210000
SUMMARY:Generalversammlung
LOCATION:Vereinsheim Hohentengen
END:VEVENT
BEGIN:VEVENT
UID:herbstkonzert-2026-11-2122@hohentengen
DTSTAMP:20260120T101134Z
DTSTART;VALUE=DATE:20261121
DTEND;VALUE=DATE:20261123
SUMMARY:Herbstkonzert MV Stetten-Bergöschingen
DESCRIPTION:Arbeitseinsatz
LOCATION:Halle Hohentengen
END:VEVENT
BEGIN:VEVENT
UID:weihnachtsmarkt-2026-11-2728@hohentengen
DTSTAMP:20260120T101134Z
DTSTART;VALUE=DATE:20261127
DTEND;VALUE=DATE:20261129
SUMMARY:Weihnachtsmarkt Hohentengen
DESCRIPTION:Arbeitseinsatz
LOCATION: Hohentengen
END:VEVENT
END:VCALENDAR
